BEGIN:VCALENDAR
VERSION:2.0
PRODID:-//New Haridwar Multi Specialty Hospital - ECPv6.0.10//NONSGML v1.0//EN
CALSCALE:GREGORIAN
METHOD:PUBLISH
X-WR-CALNAME:New Haridwar Multi Specialty Hospital
X-ORIGINAL-URL:https://hmhonline.co.in
X-WR-CALDESC:Events for New Haridwar Multi Specialty Hospital
REFRESH-INTERVAL;VALUE=DURATION:PT1H
X-Robots-Tag:noindex
X-PUBLISHED-TTL:PT1H
BEGIN:VTIMEZONE
TZID:UTC
BEGIN:STANDARD
TZOFFSETFROM:+0000
TZOFFSETTO:+0000
TZNAME:UTC
DTSTART:20230101T000000
END:STANDARD
END:VTIMEZONE
BEGIN:VEVENT
DTSTART;TZID=UTC:20230701T100000
DTEND;TZID=UTC:20230701T170000
DTSTAMP:20260425T140552
CREATED:20230712T091720Z
LAST-MODIFIED:20230712T093305Z
UID:1752-1688205600-1688230800@hmhonline.co.in
SUMMARY:Doctor's Day 2023
DESCRIPTION:Happy Doctor’s Day – 2023On the 1st of July 2023\, New Haridwar Multi-Specialty Hospital came alive with joy and gratitude as it celebrated Doctor’s Day\, a momentous occasion dedicated to honoring the tireless efforts and remarkable contributions of healthcare professionals. The event was graciously hosted by Dr. Ashwani Chauhan\, a renowned physician and the esteemed head of the hospital. \nThe grand celebration saw the entire hospital staff coming together to express their appreciation and admiration for the doctors who diligently served the community with unwavering commitment and compassion. The event venue was adorned with vibrant decorations\, reflecting the festive spirit of the occasion. \nAmong the distinguished guests of the evening were the eminent doctors who played a pivotal role in the hospital’s success. Dr. Dev Vrat Singh\, a renowned surgeon known for his exceptional skills\, was present\, receiving recognition for his outstanding contributions to patient care. Dr. Vidit Gupta\, a brilliant dentist with a penchant for innovation\, graced the event with his presence\, celebrated for his unwavering dedication to his profession. \nDr. Charu Pratap\, a compassionate gynaecologist who has touched the lives of numerous children and their mother\, also joined the celebration. Dr. Shruti Singh exceptional Physiotherapists have been instrumental in promoting health\, brought her radiant presence to the event\, leaving an indelible mark on the hearts of everyone present. \nThe festivities took a moment to acknowledge the invaluable contributions of individuals beyond the medical field. Dr Rashmi an renowned microbiologist and Dr Kuldeep an exceptional physician with vast experience delivered highly motivational and examplary talk and awarded Arpit Tiwari\, an exemplary employee from the pharmacy department\, for his exceptional work ethic and commitment to ensuring the availability of life-saving medications for the patients. Mohd Sahdab\, a dedicated member of the nursing team\, received recognition for his unwavering dedication and compassionate care towards the patients\, demonstrating the highest standards of nursing professionalism. \nAs the evening progressed\, heartfelt speeches and expressions of gratitude filled the air\, with staff members and patients alike sharing their personal stories of healing and hope\, made possible by the doctors and the entire hospital team. \nThe Doctor’s Day celebration at New Haridwar Multi-Specialty Hospital not only served as a moment to honor the exceptional work of the medical professionals but also strengthened the bond among the entire hospital staff. It was a testament to the unwavering dedication and commitment of every individual who contributed to the well-being of the patients and the community they served.
URL:https://hmhonline.co.in/event/doctors-day-2023/
LOCATION:New Haridwar Multi Specialty Hospital\, Opp. Sati Kund\, Kankhal\, Haridwar\, Uttarakhand\, 249408\, India
ATTACH;FMTTYPE=image/jpeg:https://hmhonline.co.in/wp-content/uploads/2023/07/WhatsApp-Image-2023-07-01-at-3.41.39-PM-e1689153182718.jpeg
END:VEVENT
END:VCALENDAR